BEGIN:VCALENDAR
VERSION:2.0
PRODID:-//La Veste Tatouée - ECPv6.15.20//NONSGML v1.0//EN
CALSCALE:GREGORIAN
METHOD:PUBLISH
X-ORIGINAL-URL:https://denim-tattoo.com
X-WR-CALDESC:Évènements pour La Veste Tatouée
REFRESH-INTERVAL;VALUE=DURATION:PT1H
X-Robots-Tag:noindex
X-PUBLISHED-TTL:PT1H
BEGIN:VTIMEZONE
TZID:Europe/Paris
BEGIN:DAYLIGHT
TZOFFSETFROM:+0100
TZOFFSETTO:+0200
TZNAME:CEST
DTSTART:20230326T010000
END:DAYLIGHT
BEGIN:STANDARD
TZOFFSETFROM:+0200
TZOFFSETTO:+0100
TZNAME:CET
DTSTART:20231029T010000
END:STANDARD
BEGIN:DAYLIGHT
TZOFFSETFROM:+0100
TZOFFSETTO:+0200
TZNAME:CEST
DTSTART:20240331T010000
END:DAYLIGHT
BEGIN:STANDARD
TZOFFSETFROM:+0200
TZOFFSETTO:+0100
TZNAME:CET
DTSTART:20241027T010000
END:STANDARD
BEGIN:DAYLIGHT
TZOFFSETFROM:+0100
TZOFFSETTO:+0200
TZNAME:CEST
DTSTART:20250330T010000
END:DAYLIGHT
BEGIN:STANDARD
TZOFFSETFROM:+0200
TZOFFSETTO:+0100
TZNAME:CET
DTSTART:20251026T010000
END:STANDARD
END:VTIMEZONE
BEGIN:VEVENT
DTSTART;TZID=Europe/Paris:20240420T100000
DTEND;TZID=Europe/Paris:20240421T190000
DTSTAMP:20260419T183657
CREATED:20240124T165744Z
LAST-MODIFIED:20240124T165744Z
UID:3427-1713607200-1713726000@denim-tattoo.com
SUMMARY:Les jours de l'Encre
DESCRIPTION:Un événement mêlant art et tatouage sur Rennes.\nL’objectif de l’événement est de faire découvrir des artistes & artistes tatoueurs venant d’ici et d’ailleurs en exclusivité sur Rennes. \nLa thématique de l’encre accompagnera nos visiteurs\, réunissant ainsi des créateurs et des tatoueurs tout au long du week-end dans un bâtiment-phare de notre ville culturelle Rennaise\, le Couvent des Jacobins. \n\n\n\n\n2 jours d’exposition\, 95 artistes tatoueurs et 40 artistes & créateurs.
URL:https://denim-tattoo.com/event/les-jours-de-lencre/
LOCATION:Couvent des Jacobins\, Place saint Anne\, Rennes\, Bretagne\, 35000\, France
CATEGORIES:Salon de l'artisanat,Salon du tatouage
ATTACH;FMTTYPE=image/png:https://denim-tattoo.com/wp-content/uploads/2024/01/jours-de-lencre.png
END:VEVENT
END:VCALENDAR