BEGIN:VCALENDAR
VERSION:2.0
PRODID:-//La Veste Tatouée - ECPv6.15.20//NONSGML v1.0//EN
CALSCALE:GREGORIAN
METHOD:PUBLISH
X-ORIGINAL-URL:https://denim-tattoo.com
X-WR-CALDESC:Évènements pour La Veste Tatouée
REFRESH-INTERVAL;VALUE=DURATION:PT1H
X-Robots-Tag:noindex
X-PUBLISHED-TTL:PT1H
BEGIN:VTIMEZONE
TZID:Europe/Paris
BEGIN:DAYLIGHT
TZOFFSETFROM:+0100
TZOFFSETTO:+0200
TZNAME:CEST
DTSTART:20230326T010000
END:DAYLIGHT
BEGIN:STANDARD
TZOFFSETFROM:+0200
TZOFFSETTO:+0100
TZNAME:CET
DTSTART:20231029T010000
END:STANDARD
BEGIN:DAYLIGHT
TZOFFSETFROM:+0100
TZOFFSETTO:+0200
TZNAME:CEST
DTSTART:20240331T010000
END:DAYLIGHT
BEGIN:STANDARD
TZOFFSETFROM:+0200
TZOFFSETTO:+0100
TZNAME:CET
DTSTART:20241027T010000
END:STANDARD
BEGIN:DAYLIGHT
TZOFFSETFROM:+0100
TZOFFSETTO:+0200
TZNAME:CEST
DTSTART:20250330T010000
END:DAYLIGHT
BEGIN:STANDARD
TZOFFSETFROM:+0200
TZOFFSETTO:+0100
TZNAME:CET
DTSTART:20251026T010000
END:STANDARD
END:VTIMEZONE
BEGIN:VEVENT
DTSTART;VALUE=DATE:20240426
DTEND;VALUE=DATE:20240429
DTSTAMP:20260419T183653
CREATED:20231212T153809Z
LAST-MODIFIED:20231212T153809Z
UID:3324-1714089600-1714348799@denim-tattoo.com
SUMMARY:Rouen Tattoo Festival 2024
DESCRIPTION:Pour cette troisième édition\, le Rouen Tattoo Festival vous accueille du 26 au 28 Avril 2024\, dans un lieu emblématique\, le Parc des Expos de Rouen. \nPlus de 500 artistes tatoueurs et exposants seront réunis ! \nDe nombreux artistes et performeurs seront présents sur la scène du Rouen Tattoo Festival pour vous divertir tout au long du week-end le tout animé par le seul et l’unique\, l’homme tatoué\, Pascal Tourain =) \nPendant toute la durée de l’évènement des espaces restauration et des bars seront mis à votre disposition pour vous restaurer et vous désaltérer à toute heure et tout moment de la journée.
URL:https://denim-tattoo.com/event/rouen-tattoo-festival-2024/
LOCATION:Parc Expo Rouen\, 46 avenue des Canadiens\, Le Grand Quevilly\, 76120\, France
CATEGORIES:Salon du tatouage
ATTACH;FMTTYPE=image/jpeg:https://denim-tattoo.com/wp-content/uploads/2023/12/Rouen-Tattoo-Festival-2024-la-veste-tatouee.jpg
END:VEVENT
END:VCALENDAR