BEGIN:VCALENDAR
VERSION:2.0
PRODID:-//La Veste Tatouée - ECPv6.15.20//NONSGML v1.0//EN
CALSCALE:GREGORIAN
METHOD:PUBLISH
X-WR-CALNAME:La Veste Tatouée
X-ORIGINAL-URL:https://denim-tattoo.com
X-WR-CALDESC:Évènements pour La Veste Tatouée
REFRESH-INTERVAL;VALUE=DURATION:PT1H
X-Robots-Tag:noindex
X-PUBLISHED-TTL:PT1H
BEGIN:VTIMEZONE
TZID:Europe/Paris
BEGIN:DAYLIGHT
TZOFFSETFROM:+0100
TZOFFSETTO:+0200
TZNAME:CEST
DTSTART:20250330T010000
END:DAYLIGHT
BEGIN:STANDARD
TZOFFSETFROM:+0200
TZOFFSETTO:+0100
TZNAME:CET
DTSTART:20251026T010000
END:STANDARD
BEGIN:DAYLIGHT
TZOFFSETFROM:+0100
TZOFFSETTO:+0200
TZNAME:CEST
DTSTART:20260329T010000
END:DAYLIGHT
BEGIN:STANDARD
TZOFFSETFROM:+0200
TZOFFSETTO:+0100
TZNAME:CET
DTSTART:20261025T010000
END:STANDARD
BEGIN:DAYLIGHT
TZOFFSETFROM:+0100
TZOFFSETTO:+0200
TZNAME:CEST
DTSTART:20270328T010000
END:DAYLIGHT
BEGIN:STANDARD
TZOFFSETFROM:+0200
TZOFFSETTO:+0100
TZNAME:CET
DTSTART:20271031T010000
END:STANDARD
END:VTIMEZONE
BEGIN:VEVENT
DTSTART;VALUE=DATE:20260424
DTEND;VALUE=DATE:20260427
DTSTAMP:20260424T141848
CREATED:20251106T135356Z
LAST-MODIFIED:20251106T135356Z
UID:5375-1776988800-1777247999@denim-tattoo.com
SUMMARY:Rouen Tattoo Festival
DESCRIPTION:Pour cette cinquième édition\, le Rouen Tattoo Festival vous accueille du 24 au 26 Avril 2026\, dans un lieu emblématique\, le Parc des Expos de Rouen. \n3 jours de tatouage avec de nombreux artisans\, des spectacles à couper le souffle et plein de food trucks !!
URL:https://denim-tattoo.com/event/rouen-tattoo-festival-2/
LOCATION:Parc Expo Rouen\, 46 avenue des Canadiens\, Le Grand Quevilly\, 76120\, France
CATEGORIES:Salon de l'artisanat,Salon du tatouage
ATTACH;FMTTYPE=image/jpeg:https://denim-tattoo.com/wp-content/uploads/2025/11/affiche-rtf-la-veste-tatouee.jpg
END:VEVENT
END:VCALENDAR