BEGIN:VCALENDAR
VERSION:2.0
PRODID:-//La Veste Tatouée - ECPv6.15.20//NONSGML v1.0//EN
CALSCALE:GREGORIAN
METHOD:PUBLISH
X-ORIGINAL-URL:https://denim-tattoo.com
X-WR-CALDESC:Évènements pour La Veste Tatouée
REFRESH-INTERVAL;VALUE=DURATION:PT1H
X-Robots-Tag:noindex
X-PUBLISHED-TTL:PT1H
BEGIN:VTIMEZONE
TZID:Europe/Paris
BEGIN:DAYLIGHT
TZOFFSETFROM:+0100
TZOFFSETTO:+0200
TZNAME:CEST
DTSTART:20210328T010000
END:DAYLIGHT
BEGIN:STANDARD
TZOFFSETFROM:+0200
TZOFFSETTO:+0100
TZNAME:CET
DTSTART:20211031T010000
END:STANDARD
BEGIN:DAYLIGHT
TZOFFSETFROM:+0100
TZOFFSETTO:+0200
TZNAME:CEST
DTSTART:20220327T010000
END:DAYLIGHT
BEGIN:STANDARD
TZOFFSETFROM:+0200
TZOFFSETTO:+0100
TZNAME:CET
DTSTART:20221030T010000
END:STANDARD
BEGIN:DAYLIGHT
TZOFFSETFROM:+0100
TZOFFSETTO:+0200
TZNAME:CEST
DTSTART:20230326T010000
END:DAYLIGHT
BEGIN:STANDARD
TZOFFSETFROM:+0200
TZOFFSETTO:+0100
TZNAME:CET
DTSTART:20231029T010000
END:STANDARD
END:VTIMEZONE
BEGIN:VEVENT
DTSTART;TZID=Europe/Paris:20220514T080000
DTEND;TZID=Europe/Paris:20220515T170000
DTSTAMP:20260423T024644
CREATED:20220503T155022Z
LAST-MODIFIED:20220503T155022Z
UID:1315-1652515200-1652634000@denim-tattoo.com
SUMMARY:Olonne Tattoo Show
DESCRIPTION:l’Olonne Tattoo Show\, réunit le meilleur des artistes tatoueurs pour un rendez-vous incontournable du tatouage.  \nDes exposants trier sur le volet pour vous proposer les meilleurs produits et œuvres. Nombreux Food Truck pour tous les goûts.  \nConcert le samedi soir. 
URL:https://denim-tattoo.com/event/salon-du-tatouage-olonne-tattoo-show/
LOCATION:Le Havre d’Olonne\, 71 Rue du 8 Mai 1945\, Les Sables-d'Olonne\, France\, 85340
CATEGORIES:Salon du tatouage
ATTACH;FMTTYPE=image/jpeg:https://denim-tattoo.com/wp-content/uploads/2022/05/olonne-tattoo-show.jpg
END:VEVENT
END:VCALENDAR