BEGIN:VCALENDAR
VERSION:2.0
PRODID:-//La Veste Tatouée - ECPv6.15.20//NONSGML v1.0//EN
CALSCALE:GREGORIAN
METHOD:PUBLISH
X-ORIGINAL-URL:https://denim-tattoo.com
X-WR-CALDESC:Évènements pour La Veste Tatouée
REFRESH-INTERVAL;VALUE=DURATION:PT1H
X-Robots-Tag:noindex
X-PUBLISHED-TTL:PT1H
BEGIN:VTIMEZONE
TZID:Europe/Paris
BEGIN:DAYLIGHT
TZOFFSETFROM:+0100
TZOFFSETTO:+0200
TZNAME:CEST
DTSTART:20220327T010000
END:DAYLIGHT
BEGIN:STANDARD
TZOFFSETFROM:+0200
TZOFFSETTO:+0100
TZNAME:CET
DTSTART:20221030T010000
END:STANDARD
BEGIN:DAYLIGHT
TZOFFSETFROM:+0100
TZOFFSETTO:+0200
TZNAME:CEST
DTSTART:20230326T010000
END:DAYLIGHT
BEGIN:STANDARD
TZOFFSETFROM:+0200
TZOFFSETTO:+0100
TZNAME:CET
DTSTART:20231029T010000
END:STANDARD
BEGIN:DAYLIGHT
TZOFFSETFROM:+0100
TZOFFSETTO:+0200
TZNAME:CEST
DTSTART:20240331T010000
END:DAYLIGHT
BEGIN:STANDARD
TZOFFSETFROM:+0200
TZOFFSETTO:+0100
TZNAME:CET
DTSTART:20241027T010000
END:STANDARD
END:VTIMEZONE
BEGIN:VEVENT
DTSTART;VALUE=DATE:20231007
DTEND;VALUE=DATE:20231009
DTSTAMP:20260420T011207
CREATED:20230720T090827Z
LAST-MODIFIED:20230720T090827Z
UID:2783-1696636800-1696809599@denim-tattoo.com
SUMMARY:Bourges Tattoo Convention
DESCRIPTION:La Veste Tatouée se réjouit de participer à la 9ème convention tattoo de Bourges !! \nUne convention familiale et festive !!
URL:https://denim-tattoo.com/event/bourges-tattoo-convention/
LOCATION:Pavillon d’Auron\, 16 Bvd Lamarck\, Bourges\, 18000
ATTACH;FMTTYPE=image/jpeg:https://denim-tattoo.com/wp-content/uploads/2023/07/la-veste-tatouee-bourges-tattoo-convention.jpg
ORGANIZER;CN="Bourges Tattoo Convention":MAILTO:melodunum@gmail.com
END:VEVENT
BEGIN:VEVENT
DTSTART;VALUE=DATE:20231014
DTEND;VALUE=DATE:20231016
DTSTAMP:20260420T011207
CREATED:20230331T113514Z
LAST-MODIFIED:20230331T114059Z
UID:2360-1697241600-1697414399@denim-tattoo.com
SUMMARY:Mons Tattoo Convention
DESCRIPTION:Et c’est reparti pour un petit tour en Belgique !! \nLa Veste Tatouée envahit la cinquième édition de la superbe convention de Mons les 14 et 15 octobre 2023. \nVenez nombreux ça va être le feu !!
URL:https://denim-tattoo.com/event/mons-tattoo-convention/
LOCATION:Lotto Mons Expo\, Av. Thomas Edison 2\, Mons\, 7000\, Belgique
CATEGORIES:Salon du tatouage
ATTACH;FMTTYPE=image/jpeg:https://denim-tattoo.com/wp-content/uploads/2023/03/Affiche-MTC-2023.jpg
END:VEVENT
END:VCALENDAR